BEGIN:VCALENDAR
VERSION:2.0
PRODID:-//Prince Albert Grand Council - ECPv6.15.20//NONSGML v1.0//EN
CALSCALE:GREGORIAN
METHOD:PUBLISH
X-WR-CALNAME:Prince Albert Grand Council
X-ORIGINAL-URL:https://pagc.sk.ca
X-WR-CALDESC:Events for Prince Albert Grand Council
REFRESH-INTERVAL;VALUE=DURATION:PT1H
X-Robots-Tag:noindex
X-PUBLISHED-TTL:PT1H
BEGIN:VTIMEZONE
TZID:America/Regina
BEGIN:STANDARD
TZOFFSETFROM:-0600
TZOFFSETTO:-0600
TZNAME:CST
DTSTART:20240101T000000
END:STANDARD
END:VTIMEZONE
BEGIN:VEVENT
DTSTART;TZID=America/Regina:20250702T180000
DTEND;TZID=America/Regina:20250702T200000
DTSTAMP:20260423T232022
CREATED:20250623T211813Z
LAST-MODIFIED:20250623T211901Z
UID:4535-1751479200-1751486400@pagc.sk.ca
SUMMARY:Woman's Healing Circle
DESCRIPTION:
URL:https://pagc.sk.ca/event/womans-healing-circle/
LOCATION:PAGC Health and Social Development (Boardroom)\, 851 23rd St West\, Prince Albert\, SK\, S6V 4M4
CATEGORIES:General
ATTACH;FMTTYPE=image/png:https://pagc.sk.ca/wp-content/uploads/Location-PAGC-Health-and-Social-Development-Boardroom-Time-600pm-800pm-Date-July-22025-Contact-Info-Chelsea-Morin-306-953-7917-Directline-Reylin.png
END:VEVENT
END:VCALENDAR