BEGIN:VCALENDAR
VERSION:2.0
PRODID:-//Prince Albert Grand Council - ECPv6.15.20//NONSGML v1.0//EN
CALSCALE:GREGORIAN
METHOD:PUBLISH
X-WR-CALNAME:Prince Albert Grand Council
X-ORIGINAL-URL:https://pagc.sk.ca
X-WR-CALDESC:Events for Prince Albert Grand Council
REFRESH-INTERVAL;VALUE=DURATION:PT1H
X-Robots-Tag:noindex
X-PUBLISHED-TTL:PT1H
BEGIN:VTIMEZONE
TZID:America/Regina
BEGIN:STANDARD
TZOFFSETFROM:-0600
TZOFFSETTO:-0600
TZNAME:CST
DTSTART:20240101T000000
END:STANDARD
END:VTIMEZONE
BEGIN:VEVENT
DTSTART;TZID=America/Regina:20251027T180000
DTEND;TZID=America/Regina:20251027T200000
DTSTAMP:20260423T162342
CREATED:20251015T173439Z
LAST-MODIFIED:20251015T173439Z
UID:5338-1761588000-1761595200@pagc.sk.ca
SUMMARY:Information Session | Indian Boarding Homes
DESCRIPTION:For more information:\n\nEmail: outreach@boardinghomesclassaction.com\nClaims Support: 1-888-49-1144
URL:https://pagc.sk.ca/event/information-session-indian-boarding-homes/
LOCATION:PAGC Cultural Center\, 1511 9th Ave West
CATEGORIES:General
ATTACH;FMTTYPE=image/jpeg:https://pagc.sk.ca/wp-content/uploads/Indian-Boarding-Homes-Information-Session_page-0001.jpg
END:VEVENT
BEGIN:VEVENT
DTSTART;TZID=America/Regina:20251027T183000
DTEND;TZID=America/Regina:20251027T183000
DTSTAMP:20260423T162342
CREATED:20251015T172536Z
LAST-MODIFIED:20251015T172713Z
UID:5332-1761589800-1761589800@pagc.sk.ca
SUMMARY:Women's Commission 23rd Annual Scholarship Banquet
DESCRIPTION:For more information or tickets please call: \nAnita Parenteau    306-960-6717\nSheryl Kimbley      306-980-8501
URL:https://pagc.sk.ca/event/womens-commission-23rd-annual-scholarship-banquet/
LOCATION:Plaza 88\, 888 Central Ave\, Prince Albert\, SK\, Canada
CATEGORIES:General
ATTACH;FMTTYPE=image/png:https://pagc.sk.ca/wp-content/uploads/pngthumbnail_image001.png
END:VEVENT
END:VCALENDAR