BEGIN:VCALENDAR
VERSION:2.0
PRODID:-//Prince Albert Grand Council - ECPv6.15.20//NONSGML v1.0//EN
CALSCALE:GREGORIAN
METHOD:PUBLISH
X-ORIGINAL-URL:https://pagc.sk.ca
X-WR-CALDESC:Events for Prince Albert Grand Council
REFRESH-INTERVAL;VALUE=DURATION:PT1H
X-Robots-Tag:noindex
X-PUBLISHED-TTL:PT1H
BEGIN:VTIMEZONE
TZID:America/Regina
BEGIN:STANDARD
TZOFFSETFROM:-0600
TZOFFSETTO:-0600
TZNAME:CST
DTSTART:20250101T000000
END:STANDARD
END:VTIMEZONE
BEGIN:VEVENT
DTSTART;TZID=America/Regina:20260326T080000
DTEND;TZID=America/Regina:20260326T170000
DTSTAMP:20260423T093734
CREATED:20260310T210440Z
LAST-MODIFIED:20260310T211230Z
UID:6194-1774512000-1774544400@pagc.sk.ca
SUMMARY:PAGC Policing Model Symposium
DESCRIPTION:Join the Discussion\nPrince Albert Grand Council invites Chiefs\, leadership\,\nand community members to attend a symposium to review and\ndiscuss the findings of the MNP Policing Model Study.\nThis gathering will include a presentation and time for questions\,\ndiscussion\, and community feedback on the proposed\nPAGC Police Service model. \nPAGC Policing Model Symposium Poster
URL:https://pagc.sk.ca/event/pagc-policing-model-symposium/
LOCATION:Ches Leach Lounge Art Hauser Center\, 690 32 St E\, Prince Albert\, SK S6V 2W8\, Prince Albert\, Saskatchewan\, Canada
CATEGORIES:General,Policing
ATTACH;FMTTYPE=application/pdf:https://pagc.sk.ca/wp-content/uploads/1832-march-event-poster_v2-1.pdf
END:VEVENT
END:VCALENDAR