BEGIN:VCALENDAR
VERSION:2.0
PRODID:-//Prince Albert Grand Council - ECPv6.15.20//NONSGML v1.0//EN
CALSCALE:GREGORIAN
METHOD:PUBLISH
X-WR-CALNAME:Prince Albert Grand Council
X-ORIGINAL-URL:https://pagc.sk.ca
X-WR-CALDESC:Events for Prince Albert Grand Council
REFRESH-INTERVAL;VALUE=DURATION:PT1H
X-Robots-Tag:noindex
X-PUBLISHED-TTL:PT1H
BEGIN:VTIMEZONE
TZID:America/Regina
BEGIN:STANDARD
TZOFFSETFROM:-0600
TZOFFSETTO:-0600
TZNAME:CST
DTSTART:20230101T000000
END:STANDARD
END:VTIMEZONE
BEGIN:VEVENT
DTSTART;VALUE=DATE:20241028
DTEND;VALUE=DATE:20241030
DTSTAMP:20260423T131120
CREATED:20241015T145935Z
LAST-MODIFIED:20241015T150116Z
UID:3397-1730073600-1730246399@pagc.sk.ca
SUMMARY:PAGC Annual Assembly
DESCRIPTION:Prince Albert Grand Council 2024 Annual Assembly
URL:https://pagc.sk.ca/event/pagc-annual-assembly/
LOCATION:Prince Albert Exhibition Center\, 815 Exhibition Drive\, Prince Albert\, SK\, S6V 5T1\, Canada
CATEGORIES:General
ATTACH;FMTTYPE=image/jpeg:https://pagc.sk.ca/wp-content/uploads/pagc-wide.jpg
END:VEVENT
BEGIN:VEVENT
DTSTART;VALUE=DATE:20241009
DTEND;VALUE=DATE:20241011
DTSTAMP:20260423T131120
CREATED:20241004T200324Z
LAST-MODIFIED:20241004T200329Z
UID:3329-1728432000-1728604799@pagc.sk.ca
SUMMARY:PAGC Thanksgiving Hampers
DESCRIPTION:Click here to view details and sign up…
URL:https://pagc.sk.ca/event/pagc-thanksgiving-hampers/
LOCATION:Chief Joseph Custer Grounds\, Prince Albert\, SK
CATEGORIES:General
ATTACH;FMTTYPE=image/jpeg:https://pagc.sk.ca/wp-content/uploads/pagc-wide.jpg
END:VEVENT
BEGIN:VEVENT
DTSTART;VALUE=DATE:20240930
DTEND;VALUE=DATE:20241001
DTSTAMP:20260423T131120
CREATED:20240923T180842Z
LAST-MODIFIED:20240923T181209Z
UID:3244-1727654400-1727740799@pagc.sk.ca
SUMMARY:National Day for Truth & Reconciliation
DESCRIPTION:The Prince Albert Grand Council’s Health & Social Development Department\nwelcomes you to participate in this year’s event to commemorate this\nimportant day.\nPlease join us at our PAGC Health Office located on the\nChief Joseph Custer Reserve #201—851 23rd Street West\, Prince Albert\, SK \n10:00 AM “Wiping of Tears” Ceremony for Survivors\n12:00 PM FREE Orange T-shirts\n1:00 PM Opening Prayer & Speakers\n2:00 PM Entertainment\n4:00 PM Meal to be served\n5:00 PM Closing comments \nBoth the National Day for Truth and Reconciliation and Orange Shirt Day take place on September 30th \nView Poster
URL:https://pagc.sk.ca/event/national-day-for-truth-reconciliation/
LOCATION:Chief Joseph Custer Grounds\, Prince Albert\, SK
CATEGORIES:General
ATTACH;FMTTYPE=image/png:https://pagc.sk.ca/wp-content/uploads/pagc.png
END:VEVENT
BEGIN:VEVENT
DTSTART;VALUE=DATE:20240903
DTEND;VALUE=DATE:20240904
DTSTAMP:20260423T131120
CREATED:20240530T210005Z
LAST-MODIFIED:20240604T170409Z
UID:2239-1725321600-1725407999@pagc.sk.ca
SUMMARY:Add your Event
DESCRIPTION:If you would like your Recreation Event or Meeting to be placed in the Calendar of Events\,\nplease email the information to Melanie Constant at melanieconstant@pagc.net\nPhone: 306.953.7200
URL:https://pagc.sk.ca/event/2239/
LOCATION:SK
CATEGORIES:General
END:VEVENT
BEGIN:VEVENT
DTSTART;VALUE=DATE:20240827
DTEND;VALUE=DATE:20240830
DTSTAMP:20260423T131120
CREATED:20240823T222551Z
LAST-MODIFIED:20240823T222821Z
UID:3095-1724716800-1724975999@pagc.sk.ca
SUMMARY:Dene Handgames Tournament
DESCRIPTION:Dene Hand Games Registration Form
URL:https://pagc.sk.ca/event/dene-handgames-tournament/
LOCATION:Chief Joseph Custer Grounds\, Prince Albert\, SK
CATEGORIES:General
ATTACH;FMTTYPE=image/jpeg:https://pagc.sk.ca/wp-content/uploads/1000008726.jpg
END:VEVENT
BEGIN:VEVENT
DTSTART;TZID=America/Regina:20240703T090000
DTEND;TZID=America/Regina:20240703T130000
DTSTAMP:20260423T131120
CREATED:20240611T202953Z
LAST-MODIFIED:20240611T203117Z
UID:2510-1719997200-1720011600@pagc.sk.ca
SUMMARY:20th Annual Memorial Walk
DESCRIPTION:Honouring our Sisters\, Brothers & 2SLGBTQ+
URL:https://pagc.sk.ca/event/20th-annual-memorial-walk/
LOCATION:SK
CATEGORIES:General
ATTACH;FMTTYPE=image/jpeg:https://pagc.sk.ca/wp-content/uploads/walk.jpg
END:VEVENT
BEGIN:VEVENT
DTSTART;TZID=America/Regina:20240620T090000
DTEND;TZID=America/Regina:20240620T160000
DTSTAMP:20260423T131120
CREATED:20240605T220512Z
LAST-MODIFIED:20240605T220512Z
UID:2417-1718874000-1718899200@pagc.sk.ca
SUMMARY:Indigenous Gathering
DESCRIPTION:In Melfort at the Kerry Vickar centre. Free event and free catered lunch.
URL:https://pagc.sk.ca/event/indigenous-gathering/
LOCATION:SK
CATEGORIES:General
ATTACH;FMTTYPE=image/jpeg:https://pagc.sk.ca/wp-content/uploads/Indigenous-Gathering.jpg
END:VEVENT
BEGIN:VEVENT
DTSTART;TZID=America/Regina:20240615T090000
DTEND;TZID=America/Regina:20240615T200000
DTSTAMP:20260423T131120
CREATED:20240606T192657Z
LAST-MODIFIED:20240606T192657Z
UID:2429-1718442000-1718481600@pagc.sk.ca
SUMMARY:Northern Prairie Indigenous Peoples Collective Inc. Summer Solstice
DESCRIPTION:A cultural day filled with exciting cultural and Traditional activities. \nFor more info. call 306.940.9143 or 306.314.1806
URL:https://pagc.sk.ca/event/northern-prairie-indigenous-peoples-collective-inc-summer-solstice/
LOCATION:Prince Albert Exhibition Center\, 815 Exhibition Drive\, Prince Albert\, SK\, S6V 5T1\, Canada
CATEGORIES:General
ATTACH;FMTTYPE=image/jpeg:https://pagc.sk.ca/wp-content/uploads/Summer-Solstice-2024-Made-with-PosterMyWall.jpg
END:VEVENT
BEGIN:VEVENT
DTSTART;TZID=America/Regina:20240506T100000
DTEND;TZID=America/Regina:20240506T120000
DTSTAMP:20260423T131120
CREATED:20240502T150342Z
LAST-MODIFIED:20240530T164348Z
UID:1599-1714989600-1714996800@pagc.sk.ca
SUMMARY:Moose Hide Campaign Walk
DESCRIPTION:Holistic Health & Wellness will be hosting a Moose Hide Campaign Walk on May 16th\, 2024. Please contact me\, Lisa McDermott at Holistic 306-953-7285 or on my cell at 306-940-4906 for more information.
URL:https://pagc.sk.ca/event/moose-hide-campaign-walk/
LOCATION:SK
CATEGORIES:General
END:VEVENT
BEGIN:VEVENT
DTSTART;VALUE=DATE:20240422
DTEND;VALUE=DATE:20240426
DTSTAMP:20260423T131120
CREATED:20240419T175729Z
LAST-MODIFIED:20240530T165951Z
UID:1401-1713744000-1714089599@pagc.sk.ca
SUMMARY:PAGC Fine Arts Festival 2024
DESCRIPTION:Division 1 and 2 program\nDivision 3 and 4 program\nYoutube Livestream Day 1\nYoutube Livestream Day 2\nYoutube Livestream Day 3\nYoutube Livestream Day 4
URL:https://pagc.sk.ca/event/pagc-fine-arts-festival-2024/
LOCATION:Prince Albert Exhibition Center\, 815 Exhibition Drive\, Prince Albert\, SK\, S6V 5T1\, Canada
CATEGORIES:General
ATTACH;FMTTYPE=image/jpeg:https://pagc.sk.ca/wp-content/uploads/PAGCFAF2024.jpg
END:VEVENT
BEGIN:VEVENT
DTSTART;TZID=America/Regina:20240323T110000
DTEND;TZID=America/Regina:20240323T170000
DTSTAMP:20260423T131120
CREATED:20240216T191125Z
LAST-MODIFIED:20240530T163952Z
UID:949-1711191600-1711213200@pagc.sk.ca
SUMMARY:MONTREAL LAKE CREE NATION 16TH ANNUAL WALLEYE DERBY
DESCRIPTION:March 23\n6 hour Catch and Release\nLocation: Montreal Lake\, SK\nTime: 11 am – 5 pm\nAdvance tickets $150 – On site tickets $175 – $100\,000 Grand Prize\, Guaranteed Prizes\nRegistration: March 20 – 22\, 2024 @ Days Inn\, 9 a.m. to 6 p.m. \nFor more information contact\nChelsea Currie\n306-930-9054 or view their website at\nwww.mlfishderby.com or Facebook Page\nMontreal Lake Walleye Derby
URL:https://pagc.sk.ca/event/montreal-lake-cree-nation-16th-annual-walleye-derby/
LOCATION:SK
CATEGORIES:General
ATTACH;FMTTYPE=image/png:https://pagc.sk.ca/wp-content/uploads/MLCN.png
END:VEVENT
BEGIN:VEVENT
DTSTART;TZID=America/Regina:20240302T130000
DTEND;TZID=America/Regina:20240302T170000
DTSTAMP:20260423T131120
CREATED:20240216T190906Z
LAST-MODIFIED:20240530T163955Z
UID:947-1709384400-1709398800@pagc.sk.ca
SUMMARY:AMACHEWESPIMAWIN STANLEY MISSION 4 HOUR FISH DERBY
DESCRIPTION:March 2\nAny Species – Catch and Release\nTime: 1:00 p.m. to 5:00 p.m.\nOver $50\,000 in cash prizes\n$150 Entry Fee – Heaviest Fish/Side Bet Included\n-All proceeds go towards The Community Radio Station \nFor more info. Call:\nJessie Charles\, Rosie Roberts\, William Roberts\, John P. Roberts or Cora Roberts at the\nBand Office 306-635-2115\nTom McKenzie 306-635-2100\nFred Charles 306-635-0088
URL:https://pagc.sk.ca/event/amachewespimawin-stanley-mission-4-hour-fish-derby/
LOCATION:SK
CATEGORIES:General
ATTACH;FMTTYPE=image/png:https://pagc.sk.ca/wp-content/uploads/Lac-Laronge.png
END:VEVENT
END:VCALENDAR