BEGIN:VCALENDAR
VERSION:2.0
PRODID:-//Prince Albert Grand Council - ECPv6.15.20//NONSGML v1.0//EN
CALSCALE:GREGORIAN
METHOD:PUBLISH
X-ORIGINAL-URL:https://pagc.sk.ca
X-WR-CALDESC:Events for Prince Albert Grand Council
REFRESH-INTERVAL;VALUE=DURATION:PT1H
X-Robots-Tag:noindex
X-PUBLISHED-TTL:PT1H
BEGIN:VTIMEZONE
TZID:America/Regina
BEGIN:STANDARD
TZOFFSETFROM:-0600
TZOFFSETTO:-0600
TZNAME:CST
DTSTART:20230101T000000
END:STANDARD
END:VTIMEZONE
BEGIN:VEVENT
DTSTART;TZID=America/Regina:20241107T130000
DTEND;TZID=America/Regina:20241107T160000
DTSTAMP:20260423T152146
CREATED:20240910T202003Z
LAST-MODIFIED:20240910T202003Z
UID:3181-1730984400-1730995200@pagc.sk.ca
SUMMARY:PSIT Community Engagement with PBCN-Sturgeon Landing
DESCRIPTION:For more information\, please contact Public Safety Implementation Team (PSIT) at 306-953-7333 or email at policing@pagc.net
URL:https://pagc.sk.ca/event/psit-community-engagement-with-pbcn-sturgeon-landing/
CATEGORIES:Policing
END:VEVENT
BEGIN:VEVENT
DTSTART;TZID=America/Regina:20241106T130000
DTEND;TZID=America/Regina:20241106T170000
DTSTAMP:20260423T152146
CREATED:20240912T204556Z
LAST-MODIFIED:20240912T204556Z
UID:3196-1730898000-1730912400@pagc.sk.ca
SUMMARY:PSIT Community Engagement with PBCN-Denare Beach
DESCRIPTION:For more information\, please contact Public Safety Implementation Team (PSIT) at 306-953-7333 or email at policing@pagc.net
URL:https://pagc.sk.ca/event/psit-community-engagement-with-pbcn-denare-beach/
CATEGORIES:Policing
END:VEVENT
BEGIN:VEVENT
DTSTART;TZID=America/Regina:20241105T130000
DTEND;TZID=America/Regina:20241105T170000
DTSTAMP:20260423T152146
CREATED:20240909T213235Z
LAST-MODIFIED:20240909T213235Z
UID:3179-1730811600-1730826000@pagc.sk.ca
SUMMARY:PSIT Community Engagement with PBCN-Deschambeault Lake
DESCRIPTION:For more information\, please contact Public Safety Implementation Team (PSIT) at 306-953-7333 or email at policing@pagc.net
URL:https://pagc.sk.ca/event/psit-community-engagement-with-pbcn-deschambeault-lake/
CATEGORIES:Policing
END:VEVENT
BEGIN:VEVENT
DTSTART;TZID=America/Regina:20241024T150000
DTEND;TZID=America/Regina:20241024T190000
DTSTAMP:20260423T152146
CREATED:20240828T200536Z
LAST-MODIFIED:20240828T200536Z
UID:3127-1729782000-1729796400@pagc.sk.ca
SUMMARY:PSIT Community Engagement with Montreal Lake Cree Nation
DESCRIPTION:For more information\, please contact Public Safety Implementation Team (PSIT) at 306-953-7333 or email at policing@pagc.net
URL:https://pagc.sk.ca/event/psit-community-engagement-with-montreal-lake-cree-nation/
CATEGORIES:Policing
END:VEVENT
BEGIN:VEVENT
DTSTART;TZID=America/Regina:20241022T150000
DTEND;TZID=America/Regina:20241022T190000
DTSTAMP:20260423T152146
CREATED:20240828T195527Z
LAST-MODIFIED:20240828T195527Z
UID:3125-1729609200-1729623600@pagc.sk.ca
SUMMARY:PSIT Community Engagement with LLRIB-Sucker River
DESCRIPTION:For more information\, please contact Public Safety Implementation Team (PSIT) at 306-953-7333 or email at policing@pagc.net
URL:https://pagc.sk.ca/event/psit-community-engagement-with-llrib-sucker-river/
CATEGORIES:Policing
END:VEVENT
BEGIN:VEVENT
DTSTART;TZID=America/Regina:20241009T140000
DTEND;TZID=America/Regina:20241009T190000
DTSTAMP:20260423T152146
CREATED:20240819T192548Z
LAST-MODIFIED:20240819T192548Z
UID:3055-1728482400-1728500400@pagc.sk.ca
SUMMARY:PSIT Community Engagement with Fond Du Lac Denesuline First Nation
DESCRIPTION:For more information\, please contact Public Safety Implementation Team (PSIT) at 306-953-7333 or email at policing@pagc.net
URL:https://pagc.sk.ca/event/psit-community-engagement-with-fond-du-lac-denesuline-first-nation/
CATEGORIES:Policing
END:VEVENT
BEGIN:VEVENT
DTSTART;TZID=America/Regina:20240919T100000
DTEND;TZID=America/Regina:20240919T140000
DTSTAMP:20260423T152146
CREATED:20240711T210403Z
LAST-MODIFIED:20240909T161735Z
UID:2789-1726740000-1726754400@pagc.sk.ca
SUMMARY:Cancelled due to Wildfire-PSIT Community Engagement with PBCN-Southend
DESCRIPTION:For more information\, please contact Public Safety Implementation Team (PSIT) at 306-953-7333 or email at policing@pagc.net
URL:https://pagc.sk.ca/event/psit-community-engagement-with-pbcn-southend/
CATEGORIES:Policing
END:VEVENT
BEGIN:VEVENT
DTSTART;TZID=America/Regina:20240917T100000
DTEND;TZID=America/Regina:20240917T140000
DTSTAMP:20260423T152146
CREATED:20240812T173616Z
LAST-MODIFIED:20240812T173616Z
UID:3037-1726567200-1726581600@pagc.sk.ca
SUMMARY:PSIT Community Engagement with James Smith Cree Nation
DESCRIPTION:For more information\, please contact Public Safety Implementation Team (PSIT) at 306-953-7333 or email at policing@pagc.net
URL:https://pagc.sk.ca/event/psit-community-engagement-with-james-smith-cree-nation/
CATEGORIES:Policing
END:VEVENT
BEGIN:VEVENT
DTSTART;TZID=America/Regina:20240916T150000
DTEND;TZID=America/Regina:20240916T190000
DTSTAMP:20260423T152146
CREATED:20240703T223000Z
LAST-MODIFIED:20240814T221710Z
UID:2732-1726498800-1726513200@pagc.sk.ca
SUMMARY:PSIT Community Engagement with Little Red-MLCN
DESCRIPTION:For more information\, please contact Public Safety Implementation Team (PSIT) at 306-953-7333 or email at policing@pagc.net
URL:https://pagc.sk.ca/event/psit-community-engagement-with-little-red-mlcn/
CATEGORIES:Policing
END:VEVENT
BEGIN:VEVENT
DTSTART;TZID=America/Regina:20240911T100000
DTEND;TZID=America/Regina:20240911T160000
DTSTAMP:20260423T152146
CREATED:20240718T165122Z
LAST-MODIFIED:20240718T165122Z
UID:2813-1726048800-1726070400@pagc.sk.ca
SUMMARY:PSIT Community Engagement with Black Lake Denesuline First Nation
DESCRIPTION:For more information\, please contact Public Safety Implementation Team (PSIT) at 306-953-7333 or email at policing@pagc.net
URL:https://pagc.sk.ca/event/psit-community-engagement-with-black-lake-denesuline-first-nation/
CATEGORIES:Policing
END:VEVENT
BEGIN:VEVENT
DTSTART;TZID=America/Regina:20240905T150000
DTEND;TZID=America/Regina:20240905T190000
DTSTAMP:20260423T152146
CREATED:20240718T170616Z
LAST-MODIFIED:20240718T170616Z
UID:2815-1725548400-1725562800@pagc.sk.ca
SUMMARY:PSIT Community Engagement with LLRIB-Hall Lake
DESCRIPTION:For more information\, please contact Public Safety Implementation Team (PSIT) at 306-953-7333 or email at policing@pagc.net
URL:https://pagc.sk.ca/event/psit-community-engagement-with-llrib-hall-lake-2/
CATEGORIES:Policing
END:VEVENT
BEGIN:VEVENT
DTSTART;TZID=America/Regina:20240904T100000
DTEND;TZID=America/Regina:20240904T140000
DTSTAMP:20260423T152146
CREATED:20240819T214412Z
LAST-MODIFIED:20240819T214412Z
UID:3058-1725444000-1725458400@pagc.sk.ca
SUMMARY:PSIT Community Engagement with LLRIB-Stanley Mission
DESCRIPTION:For more information\, please contact Public Safety Implementation Team (PSIT) at 306-953-7333 or email at policing@pagc.net
URL:https://pagc.sk.ca/event/psit-community-engagement-with-llrib-stanley-mission/
CATEGORIES:Policing
END:VEVENT
BEGIN:VEVENT
DTSTART;TZID=America/Regina:20240829T150000
DTEND;TZID=America/Regina:20240829T190000
DTSTAMP:20260423T152146
CREATED:20240718T164833Z
LAST-MODIFIED:20240718T164833Z
UID:2811-1724943600-1724958000@pagc.sk.ca
SUMMARY:PSIT Community Engagement with LLRIB-Grandmother's Bay
DESCRIPTION:For more information\, please contact Public Safety Implementation Team (PSIT) at 306-953-7333 or email at policing@pagc.net
URL:https://pagc.sk.ca/event/psit-community-engagement-with-llrib-grandmothers-bay/
CATEGORIES:Policing
END:VEVENT
BEGIN:VEVENT
DTSTART;TZID=America/Regina:20240826T100000
DTEND;TZID=America/Regina:20240826T140000
DTSTAMP:20260423T152146
CREATED:20240725T213016Z
LAST-MODIFIED:20240725T213016Z
UID:2870-1724666400-1724680800@pagc.sk.ca
SUMMARY:PSIT Community Engagement with LLRIB-Little Red
DESCRIPTION:For more information\, please contact Public Safety Implementation Team (PSIT) at 306-953-7333 or email at policing@pagc.net
URL:https://pagc.sk.ca/event/psit-community-engagement-with-llrib-little-red/
CATEGORIES:Policing
END:VEVENT
BEGIN:VEVENT
DTSTART;TZID=America/Regina:20240821T150000
DTEND;TZID=America/Regina:20240821T190000
DTSTAMP:20260423T152146
CREATED:20240812T165957Z
LAST-MODIFIED:20240812T165957Z
UID:3035-1724252400-1724266800@pagc.sk.ca
SUMMARY:PSIT Community Engagement with LLRIB-Lac La Ronge
DESCRIPTION:For more information\, please contact Public Safety Implementation Team (PSIT) at 306-953-7333 or email at policing@pagc.net
URL:https://pagc.sk.ca/event/psit-community-engagement-with-llrib-lac-la-ronge/
CATEGORIES:Policing
END:VEVENT
BEGIN:VEVENT
DTSTART;TZID=America/Regina:20240724T100000
DTEND;TZID=America/Regina:20240724T140000
DTSTAMP:20260423T152146
CREATED:20240627T221724Z
LAST-MODIFIED:20240627T221724Z
UID:2701-1721815200-1721829600@pagc.sk.ca
SUMMARY:PSIT Community Engagement with PBCN-Pelican Narrows
DESCRIPTION:For more information\, please contact Public Safety Implementation Team (PSIT) at 306-953-7333 or email at policing@pagc.net
URL:https://pagc.sk.ca/event/psit-community-engagement-with-pbcn-pelican-narrows/
CATEGORIES:Policing
END:VEVENT
BEGIN:VEVENT
DTSTART;TZID=America/Regina:20240723T100000
DTEND;TZID=America/Regina:20240723T140000
DTSTAMP:20260423T152146
CREATED:20240627T221558Z
LAST-MODIFIED:20240627T221558Z
UID:2699-1721728800-1721743200@pagc.sk.ca
SUMMARY:PSIT Community Engagement with PBCN-Sandy Bay
DESCRIPTION:For more information\, please contact Public Safety Implementation Team (PSIT) at 306-953-7333 or email at policing@pagc.net
URL:https://pagc.sk.ca/event/psit-community-engagement-with-pbcn-sandy-bay/
CATEGORIES:Policing
END:VEVENT
BEGIN:VEVENT
DTSTART;TZID=America/Regina:20240719T100000
DTEND;TZID=America/Regina:20240719T140000
DTSTAMP:20260423T152146
CREATED:20240712T195151Z
LAST-MODIFIED:20240712T195151Z
UID:2801-1721383200-1721397600@pagc.sk.ca
SUMMARY:PSIT Community Engagement with Sturgeon Lake First Nation
DESCRIPTION:For more information\, please contact Public Safety Implementation Team (PSIT) at 306-953-7333 or email at policing@pagc.net
URL:https://pagc.sk.ca/event/psit-community-engagement-with-sturgeon-lake-first-nation-2/
CATEGORIES:Policing
END:VEVENT
BEGIN:VEVENT
DTSTART;TZID=America/Regina:20240716T100000
DTEND;TZID=America/Regina:20240716T150000
DTSTAMP:20260423T152146
CREATED:20240627T221402Z
LAST-MODIFIED:20240627T221402Z
UID:2697-1721124000-1721142000@pagc.sk.ca
SUMMARY:PSIT Community Engagement with LLRIB-Hall Lake
DESCRIPTION:For more information\, please contact Public Safety Implementation Team (PSIT) at 306-953-7333 or email at policing@pagc.net
URL:https://pagc.sk.ca/event/psit-community-engagement-with-llrib-hall-lake/
CATEGORIES:Policing
END:VEVENT
BEGIN:VEVENT
DTSTART;TZID=America/Regina:20240712T093000
DTEND;TZID=America/Regina:20240712T120000
DTSTAMP:20260423T152147
CREATED:20240702T192439Z
LAST-MODIFIED:20240702T192439Z
UID:2718-1720776600-1720785600@pagc.sk.ca
SUMMARY:PSIT Community Engagement with Sturgeon Lake First Nation
DESCRIPTION:For more information\, please contact Public Safety Implementation Team (PSIT) at 306-953-7333 or email at policing@pagc.net
URL:https://pagc.sk.ca/event/psit-community-engagement-with-sturgeon-lake-first-nation/
CATEGORIES:Policing
END:VEVENT
BEGIN:VEVENT
DTSTART;TZID=America/Regina:20240707T090000
DTEND;TZID=America/Regina:20240707T120000
DTSTAMP:20260423T152147
CREATED:20240702T192112Z
LAST-MODIFIED:20240702T192112Z
UID:2716-1720342800-1720353600@pagc.sk.ca
SUMMARY:PSIT Community Engagement with Cumberland House Cree Nation
DESCRIPTION:For more information\, please contact Public Safety Implementation Team (PSIT) at 306-953-7333 or email at policing@pagc.net
URL:https://pagc.sk.ca/event/psit-community-engagement-with-cumberland-house-cree-nation/
CATEGORIES:Policing
END:VEVENT
BEGIN:VEVENT
DTSTART;TZID=America/Regina:20240705T100000
DTEND;TZID=America/Regina:20240705T150000
DTSTAMP:20260423T152147
CREATED:20240626T191353Z
LAST-MODIFIED:20240626T191353Z
UID:2690-1720173600-1720191600@pagc.sk.ca
SUMMARY:PSIT Community Engagement with Red Earth Cree Nation
DESCRIPTION:For more information\, please contact Public Safety Implementation Team (PSIT) at 306-953-7333 or email at policing@pagc.net
URL:https://pagc.sk.ca/event/psit-community-engagement-with-red-earth-cree-nation/
CATEGORIES:Policing
END:VEVENT
BEGIN:VEVENT
DTSTART;TZID=America/Regina:20240628T100000
DTEND;TZID=America/Regina:20240628T120000
DTSTAMP:20260423T152147
CREATED:20240605T210150Z
LAST-MODIFIED:20240605T210150Z
UID:2415-1719568800-1719576000@pagc.sk.ca
SUMMARY:PSIT Community Engagement with Montreal Lake Cree Nation-Little Red
DESCRIPTION:For more information\, please contact Public Safety Implementation Team (PSIT) at 306-953-7333 or email at policing@pagc.net
URL:https://pagc.sk.ca/event/psit-community-engagement-with-montreal-lake-cree-nation-little-red/
CATEGORIES:Policing
END:VEVENT
BEGIN:VEVENT
DTSTART;TZID=America/Regina:20240617T100000
DTEND;TZID=America/Regina:20240617T120000
DTSTAMP:20260423T152147
CREATED:20240604T200354Z
LAST-MODIFIED:20240604T200354Z
UID:2381-1718618400-1718625600@pagc.sk.ca
SUMMARY:PSIT Community Engagement with Wahpeton Dakota Nation
DESCRIPTION:For more information\, please contact Public Safety Implementation Team (PSIT) at 306-953-7333 or email at policing@pagc.net
URL:https://pagc.sk.ca/event/psit-community-engagement-with-wahpeton-dakota-nation/
CATEGORIES:Policing
END:VEVENT
BEGIN:VEVENT
DTSTART;TZID=America/Regina:20240614T130000
DTEND;TZID=America/Regina:20240614T153000
DTSTAMP:20260423T152147
CREATED:20240611T192432Z
LAST-MODIFIED:20240611T192432Z
UID:2507-1718370000-1718379000@pagc.sk.ca
SUMMARY:PSIT Community Engagement with Red Earth-PA
DESCRIPTION:For more information\, please contact Public Safety Implementation Team (PSIT) at 306-953-7333 or email at policing@pagc.net
URL:https://pagc.sk.ca/event/psit-community-engagement-with-red-earth-pa/
CATEGORIES:Policing
END:VEVENT
BEGIN:VEVENT
DTSTART;TZID=America/Regina:20240603T100000
DTEND;TZID=America/Regina:20240603T120000
DTSTAMP:20260423T152147
CREATED:20240604T195623Z
LAST-MODIFIED:20240604T200519Z
UID:2377-1717408800-1717416000@pagc.sk.ca
SUMMARY:PSIT Community Engagement with Montreal Lake Cree Nation-Montreal Lake
DESCRIPTION:For more information\, please contact Public Safety Implementation Team (PSIT) at 306-953-7333 or email at policing@pagc.net
URL:https://pagc.sk.ca/event/psit-community-engagement-with-montreal-lake-cree-nation-montreal-lake/
CATEGORIES:Policing
END:VEVENT
END:VCALENDAR