BEGIN:VCALENDAR
VERSION:2.0
PRODID:-//Prince Albert Grand Council - ECPv6.15.20//NONSGML v1.0//EN
CALSCALE:GREGORIAN
METHOD:PUBLISH
X-WR-CALNAME:Prince Albert Grand Council
X-ORIGINAL-URL:https://pagc.sk.ca
X-WR-CALDESC:Events for Prince Albert Grand Council
REFRESH-INTERVAL;VALUE=DURATION:PT1H
X-Robots-Tag:noindex
X-PUBLISHED-TTL:PT1H
BEGIN:VTIMEZONE
TZID:America/Regina
BEGIN:STANDARD
TZOFFSETFROM:-0600
TZOFFSETTO:-0600
TZNAME:CST
DTSTART:20230101T000000
END:STANDARD
END:VTIMEZONE
BEGIN:VEVENT
DTSTART;TZID=America/Regina:20260418T180000
DTEND;TZID=America/Regina:20260418T230000
DTSTAMP:20260423T163130
CREATED:20260310T215333Z
LAST-MODIFIED:20260416T175216Z
UID:6215-1776535200-1776553200@pagc.sk.ca
SUMMARY:1st Annual Little Warriors Mini Round Dance
DESCRIPTION:1st Annual Little Warriors Mini Round Dance \nRound Dance Poster
URL:https://pagc.sk.ca/event/1st-annual-little-warriors-mini-round-dance/
LOCATION:PAGC Cultural Center\, 1511 9th Ave West
CATEGORIES:General
ATTACH;FMTTYPE=image/jpeg:https://pagc.sk.ca/wp-content/uploads/3334.jpg
END:VEVENT
BEGIN:VEVENT
DTSTART;TZID=America/Regina:20260330T090000
DTEND;TZID=America/Regina:20260331T160000
DTSTAMP:20260423T163130
CREATED:20260318T215121Z
LAST-MODIFIED:20260402T211416Z
UID:6256-1774861200-1774972800@pagc.sk.ca
SUMMARY:PAGC Housing Forum & Trade Show
DESCRIPTION:We will accept registrations up to and during the event\n Registration Form \nPAGC Housing Forum and Tradeshow Agenda\nPresentations and Evaluation sheet
URL:https://pagc.sk.ca/event/pagc-housing-forum-trade-show/
LOCATION:Saskatoon Inn
CATEGORIES:General
ATTACH;FMTTYPE=image/png:https://pagc.sk.ca/wp-content/uploads/PAGC-2026-Housing-Forum-Poster_final-conv-0.png
ORGANIZER;CN="PAGC - Housing & Technical Services":MAILTO:vgenereaux@pagc.net rosiecharles@pagc.net
END:VEVENT
BEGIN:VEVENT
DTSTART;TZID=America/Regina:20260326T080000
DTEND;TZID=America/Regina:20260326T170000
DTSTAMP:20260423T163131
CREATED:20260310T210440Z
LAST-MODIFIED:20260310T211230Z
UID:6194-1774512000-1774544400@pagc.sk.ca
SUMMARY:PAGC Policing Model Symposium
DESCRIPTION:Join the Discussion\nPrince Albert Grand Council invites Chiefs\, leadership\,\nand community members to attend a symposium to review and\ndiscuss the findings of the MNP Policing Model Study.\nThis gathering will include a presentation and time for questions\,\ndiscussion\, and community feedback on the proposed\nPAGC Police Service model. \nPAGC Policing Model Symposium Poster
URL:https://pagc.sk.ca/event/pagc-policing-model-symposium/
LOCATION:Ches Leach Lounge Art Hauser Center\, 690 32 St E\, Prince Albert\, SK S6V 2W8\, Prince Albert\, Saskatchewan\, Canada
CATEGORIES:General,Policing
ATTACH;FMTTYPE=application/pdf:https://pagc.sk.ca/wp-content/uploads/1832-march-event-poster_v2-1.pdf
END:VEVENT
BEGIN:VEVENT
DTSTART;TZID=America/Regina:20251127T090000
DTEND;TZID=America/Regina:20251127T150000
DTSTAMP:20260423T163131
CREATED:20251107T211609Z
LAST-MODIFIED:20251107T211609Z
UID:5534-1764234000-1764255600@pagc.sk.ca
SUMMARY:FLU Clinic November 2025
DESCRIPTION:Flu & Covid 19 Vaccines Available\n\nCovid 19 Vaccine for Ages 12 and up\n\nNo appointment Necessary
URL:https://pagc.sk.ca/event/flu-clinic-november-2025/
LOCATION:PAGC Urban Services\, 1211 1st Ave West\, Prince Albert\, SK
CATEGORIES:General
ATTACH;FMTTYPE=image/jpeg:https://pagc.sk.ca/wp-content/uploads/Flu-Clinic-November-2025_page-0001.jpg
END:VEVENT
BEGIN:VEVENT
DTSTART;TZID=America/Regina:20251127T090000
DTEND;TZID=America/Regina:20251127T150000
DTSTAMP:20260423T163131
CREATED:20251104T223224Z
LAST-MODIFIED:20251104T223224Z
UID:5517-1764234000-1764255600@pagc.sk.ca
SUMMARY:Job Career Fair Nov 27\, 2025
DESCRIPTION:Bring your Resume and Credentials. \nPrinting & Resume services available on site.
URL:https://pagc.sk.ca/event/job-career-fair-nov-27-2025/
LOCATION:PAGC Urban Services\, 1211 1st Ave West\, Prince Albert\, SK
CATEGORIES:General
ATTACH;FMTTYPE=image/png:https://pagc.sk.ca/wp-content/uploads/Thumb-Creating-Connections-JOB-FAIR_Poster.png
END:VEVENT
BEGIN:VEVENT
DTSTART;TZID=America/Regina:20251110T100000
DTEND;TZID=America/Regina:20251110T170000
DTSTAMP:20260423T163131
CREATED:20251022T223435Z
LAST-MODIFIED:20251022T223443Z
UID:5396-1762768800-1762794000@pagc.sk.ca
SUMMARY:Remembrance Day 2025
DESCRIPTION:Honour and Remember \nTurkey lunch will be served following the ceremony.\nVeterans\, please bring membership card to receive payout.\nFor more information call: \nAnita Parenteau   306-960-6717 \nSheryl Kimberly   306-980-8501
URL:https://pagc.sk.ca/event/remembrance-day-2025/
LOCATION:PAGC Urban Services\, 1211 1st Ave West\, Prince Albert\, SK
CATEGORIES:General
ATTACH;FMTTYPE=image/jpeg:https://pagc.sk.ca/wp-content/uploads/PAGC-Rememberance-2025-scaled.jpg
END:VEVENT
BEGIN:VEVENT
DTSTART;TZID=America/Regina:20251027T183000
DTEND;TZID=America/Regina:20251027T183000
DTSTAMP:20260423T163131
CREATED:20251015T172536Z
LAST-MODIFIED:20251015T172713Z
UID:5332-1761589800-1761589800@pagc.sk.ca
SUMMARY:Women's Commission 23rd Annual Scholarship Banquet
DESCRIPTION:For more information or tickets please call: \nAnita Parenteau    306-960-6717\nSheryl Kimbley      306-980-8501
URL:https://pagc.sk.ca/event/womens-commission-23rd-annual-scholarship-banquet/
LOCATION:Plaza 88\, 888 Central Ave\, Prince Albert\, SK\, Canada
CATEGORIES:General
ATTACH;FMTTYPE=image/png:https://pagc.sk.ca/wp-content/uploads/pngthumbnail_image001.png
END:VEVENT
BEGIN:VEVENT
DTSTART;TZID=America/Regina:20251027T180000
DTEND;TZID=America/Regina:20251027T200000
DTSTAMP:20260423T163131
CREATED:20251015T173439Z
LAST-MODIFIED:20251015T173439Z
UID:5338-1761588000-1761595200@pagc.sk.ca
SUMMARY:Information Session | Indian Boarding Homes
DESCRIPTION:For more information:\n\nEmail: outreach@boardinghomesclassaction.com\nClaims Support: 1-888-49-1144
URL:https://pagc.sk.ca/event/information-session-indian-boarding-homes/
LOCATION:PAGC Cultural Center\, 1511 9th Ave West
CATEGORIES:General
ATTACH;FMTTYPE=image/jpeg:https://pagc.sk.ca/wp-content/uploads/Indian-Boarding-Homes-Information-Session_page-0001.jpg
END:VEVENT
BEGIN:VEVENT
DTSTART;TZID=America/Regina:20251023T120000
DTEND;TZID=America/Regina:20251023T150000
DTSTAMP:20260423T163131
CREATED:20251021T210600Z
LAST-MODIFIED:20251021T210626Z
UID:5364-1761220800-1761231600@pagc.sk.ca
SUMMARY:Thanksgiving Feast 2025
DESCRIPTION:Thanksgiving Feast 2025
URL:https://pagc.sk.ca/event/thanksgiving-feast-2025/
LOCATION:PAGC Urban Services\, 1211 1st Ave West\, Prince Albert\, SK
CATEGORIES:General
ATTACH;FMTTYPE=image/png:https://pagc.sk.ca/wp-content/uploads/thumbnail_IMG.png
END:VEVENT
BEGIN:VEVENT
DTSTART;VALUE=DATE:20251015
DTEND;VALUE=DATE:20251017
DTSTAMP:20260423T163131
CREATED:20250821T212033Z
LAST-MODIFIED:20250910T220101Z
UID:4897-1760486400-1760659199@pagc.sk.ca
SUMMARY:PAGC Policing and Community Safety Gathering
DESCRIPTION:To Register as a Community Member\, Click here to submit online or download the Community Member Registration Form (pdf). \nTo Sign up to be a Partner\, download the Partner Registration Form (pdf). \nEmail or fax Registration forms to policing@pagc.net\, 306-922-3270 (fax) \nFor more information about PAGC Policing\, visit the program page
URL:https://pagc.sk.ca/event/pagc-policing-and-community-safety-gathering/
LOCATION:Saskatoon Inn
CATEGORIES:General,Policing
ATTACH;FMTTYPE=image/jpeg:https://pagc.sk.ca/wp-content/uploads/1832-community-safety-poster_v9.jpg
END:VEVENT
BEGIN:VEVENT
DTSTART;TZID=America/Regina:20250930T100000
DTEND;TZID=America/Regina:20250930T170000
DTSTAMP:20260423T163131
CREATED:20250909T220303Z
LAST-MODIFIED:20250916T191249Z
UID:5070-1759226400-1759251600@pagc.sk.ca
SUMMARY:When Time Heals - Every Child Matters
DESCRIPTION:JOIN US IN HONORING THE LIVES\, VOICES\, AND FUTURES OF INDIGENOUS CHILDREN\n“EVERY CHILD MATTERS”\nDATE: SEPT 30\,2025\nTIME: 10AM -5PM\nLOCATION: 1350- 15TH AVE WEST\nPAGC CULTURAL CENTRE\, PRINCE ALBERT\, SK  \nJOIN US FOR A MEANINGFUL EVENT FILLED WITH: \n✓ MOMENT OF SILENCE\n✓ POW WOW DANCER DEMOS\n✓ GUEST SPEAKERS\n✓ MINI ROUND DANCE\n✓LUNCH PROVIDED \nContact: Penny Constant 306-953-7928\nChelsea Morin 306-953-7917\nGeroge Mirasty 306-953-7934
URL:https://pagc.sk.ca/event/when-time-heals-every-child-matters/
LOCATION:PAGC Cultural Center\, 1511 9th Ave West
CATEGORIES:General
ATTACH;FMTTYPE=image/jpeg:https://pagc.sk.ca/wp-content/uploads/Untitled-design-2.jpg
END:VEVENT
BEGIN:VEVENT
DTSTART;TZID=America/Regina:20250826T180000
DTEND;TZID=America/Regina:20250826T180000
DTSTAMP:20260423T163131
CREATED:20250818T220420Z
LAST-MODIFIED:20250820T174145Z
UID:4831-1756231200-1756231200@pagc.sk.ca
SUMMARY:2025 NRTA Summit Gala
DESCRIPTION:
URL:https://pagc.sk.ca/event/2025-nrta-summit-gala/
LOCATION:Prince Albert Exhibition Center\, 815 Exhibition Drive\, Prince Albert\, SK\, S6V 5T1\, Canada
CATEGORIES:General
ATTACH;FMTTYPE=image/jpeg:https://pagc.sk.ca/wp-content/uploads/NRTA-Summit-2025-1.jpg
END:VEVENT
BEGIN:VEVENT
DTSTART;VALUE=DATE:20250824
DTEND;VALUE=DATE:20250828
DTSTAMP:20260423T163131
CREATED:20250820T173339Z
LAST-MODIFIED:20250820T174407Z
UID:4877-1755993600-1756339199@pagc.sk.ca
SUMMARY:2025 NRTA Summit
DESCRIPTION:Registration Link: Register Here
URL:https://pagc.sk.ca/event/2025-nrta-summit/
LOCATION:Prince Albert Exhibition Center\, 815 Exhibition Drive\, Prince Albert\, SK\, S6V 5T1\, Canada
CATEGORIES:General
ATTACH;FMTTYPE=image/jpeg:https://pagc.sk.ca/wp-content/uploads/NRTA-Summit-2025-1.jpg
END:VEVENT
BEGIN:VEVENT
DTSTART;TZID=America/Regina:20250730T100000
DTEND;TZID=America/Regina:20250730T130000
DTSTAMP:20260423T163131
CREATED:20250728T212604Z
LAST-MODIFIED:20250728T212651Z
UID:4747-1753869600-1753880400@pagc.sk.ca
SUMMARY:Honouring our Sisters\, Brothers & 2SLGBTQ+
DESCRIPTION:To honour the lives of First Nations who have gone missing or whose lives have been tragically lost to violence.
URL:https://pagc.sk.ca/event/honouring-our-sisters-brothers-2slgbtq/
LOCATION:Sisters in Spirit Memorial\, River Bank\, Downtown\, Prince Albert
CATEGORIES:General
ATTACH;FMTTYPE=image/jpeg:https://pagc.sk.ca/wp-content/uploads/WC-Walk-2025.jpg
END:VEVENT
BEGIN:VEVENT
DTSTART;TZID=America/Regina:20250702T180000
DTEND;TZID=America/Regina:20250702T200000
DTSTAMP:20260423T163131
CREATED:20250623T211813Z
LAST-MODIFIED:20250623T211901Z
UID:4535-1751479200-1751486400@pagc.sk.ca
SUMMARY:Woman's Healing Circle
DESCRIPTION:
URL:https://pagc.sk.ca/event/womans-healing-circle/
LOCATION:PAGC Health and Social Development (Boardroom)\, 851 23rd St West\, Prince Albert\, SK\, S6V 4M4
CATEGORIES:General
ATTACH;FMTTYPE=image/png:https://pagc.sk.ca/wp-content/uploads/Location-PAGC-Health-and-Social-Development-Boardroom-Time-600pm-800pm-Date-July-22025-Contact-Info-Chelsea-Morin-306-953-7917-Directline-Reylin.png
END:VEVENT
BEGIN:VEVENT
DTSTART;TZID=America/Regina:20250617T160000
DTEND;TZID=America/Regina:20250617T190000
DTSTAMP:20260423T163131
CREATED:20250523T165306Z
LAST-MODIFIED:20250523T165306Z
UID:4357-1750176000-1750186800@pagc.sk.ca
SUMMARY:PSIT Community Engagement with PBCN-Southend
DESCRIPTION:For more information\, please contact Public Safety Implementation Team (PSIT) at 306-953-7333 or email at policing@pagc.net
URL:https://pagc.sk.ca/event/psit-community-engagement-with-pbcn-southend-3/
CATEGORIES:Policing
END:VEVENT
BEGIN:VEVENT
DTSTART;VALUE=DATE:20250605
DTEND;VALUE=DATE:20250611
DTSTAMP:20260423T163131
CREATED:20250605T152402Z
LAST-MODIFIED:20250605T164314Z
UID:4439-1749081600-1749599999@pagc.sk.ca
SUMMARY:LLRIB Evacuee Weekly Activities
DESCRIPTION:
URL:https://pagc.sk.ca/event/llrib-evacuee-weekly-activities/
CATEGORIES:General
ATTACH;FMTTYPE=image/png:https://pagc.sk.ca/wp-content/uploads/LLRIB-Evacuee-Weekly-Activity-Sign-Up.png
END:VEVENT
BEGIN:VEVENT
DTSTART;TZID=America/Regina:20250517T100000
DTEND;TZID=America/Regina:20250517T150000
DTSTAMP:20260423T163131
CREATED:20250515T215745Z
LAST-MODIFIED:20250515T215845Z
UID:4268-1747476000-1747494000@pagc.sk.ca
SUMMARY:Yes Program Youth Fundraiser
DESCRIPTION:BBQ – Garage Sale – Food Hamper Draw! (cash only)
URL:https://pagc.sk.ca/event/yes-program-youth-fundraiser/
LOCATION:PAGC Cultural Center\, 1511 9th Ave West
CATEGORIES:General
ATTACH;FMTTYPE=image/jpeg:https://pagc.sk.ca/wp-content/uploads/YES-Funderaiser.jpg
END:VEVENT
BEGIN:VEVENT
DTSTART;TZID=America/Regina:20250515T100000
DTEND;TZID=America/Regina:20250515T130000
DTSTAMP:20260423T163131
CREATED:20250506T145351Z
LAST-MODIFIED:20250506T145351Z
UID:4187-1747303200-1747314000@pagc.sk.ca
SUMMARY:The Moose Hide Campaign
DESCRIPTION:Walk ending violence against Woman and Children and to inspire our future generations to live a better and healthier life.
URL:https://pagc.sk.ca/event/the-moose-hide-campaign/
LOCATION:PAGC Monument on River Street
CATEGORIES:General
END:VEVENT
BEGIN:VEVENT
DTSTART;TZID=America/Regina:20250429T093000
DTEND;TZID=America/Regina:20250429T160000
DTSTAMP:20260423T163131
CREATED:20250402T204037Z
LAST-MODIFIED:20250402T204037Z
UID:4017-1745919000-1745942400@pagc.sk.ca
SUMMARY:PSIT Community Engagement with Red Earth Cree Nation
DESCRIPTION:For more information\, please contact Public Safety Implementation Team (PSIT) at 306-953-7333 or email at policing@pagc.net
URL:https://pagc.sk.ca/event/psit-community-engagement-with-red-earth-cree-nation-2/
CATEGORIES:Policing
END:VEVENT
BEGIN:VEVENT
DTSTART;VALUE=DATE:20250407
DTEND;VALUE=DATE:20250411
DTSTAMP:20260423T163131
CREATED:20250407T034019Z
LAST-MODIFIED:20250407T034019Z
UID:4046-1743984000-1744329599@pagc.sk.ca
SUMMARY:2025 Fine Arts Festival
DESCRIPTION:
URL:https://pagc.sk.ca/event/2025-fine-arts-festival/
LOCATION:Prince Albert Exhibition Center\, 815 Exhibition Drive\, Prince Albert\, SK\, S6V 5T1\, Canada
CATEGORIES:General
ATTACH;FMTTYPE=image/jpeg:https://pagc.sk.ca/wp-content/uploads/PAGCFAF2024-1.jpg
END:VEVENT
BEGIN:VEVENT
DTSTART;VALUE=DATE:20250325
DTEND;VALUE=DATE:20250327
DTSTAMP:20260423T163131
CREATED:20250318T205014Z
LAST-MODIFIED:20250318T205014Z
UID:3958-1742860800-1743033599@pagc.sk.ca
SUMMARY:Indigenizing the Curriculum
DESCRIPTION:PAGC Education will be hosting a two-day workshop on how First Nations can Indigenize the Saskatchewan Curriculum. \nView Poster with Agenda
URL:https://pagc.sk.ca/event/indigenizing-the-curriculum/
LOCATION:Saskatoon Inn
CATEGORIES:General
ATTACH;FMTTYPE=image/jpeg:https://pagc.sk.ca/wp-content/uploads/Picture1.jpg
END:VEVENT
BEGIN:VEVENT
DTSTART;TZID=America/Regina:20250318T150000
DTEND;TZID=America/Regina:20250318T190000
DTSTAMP:20260423T163131
CREATED:20250206T220706Z
LAST-MODIFIED:20250207T145218Z
UID:3833-1742310000-1742324400@pagc.sk.ca
SUMMARY:PSIT Community Engagement with PBCN-Pelican Narrows
DESCRIPTION:For more information\, please contact Public Safety Implementation Team (PSIT) at 306-953-7333 or email at policing@pagc.net
URL:https://pagc.sk.ca/event/psit-community-engagement-with-pbcn-pelican-narrows-2/
CATEGORIES:Policing
END:VEVENT
BEGIN:VEVENT
DTSTART;TZID=America/Regina:20250312T140000
DTEND;TZID=America/Regina:20250312T180000
DTSTAMP:20260423T163131
CREATED:20250207T145018Z
LAST-MODIFIED:20250207T145018Z
UID:3837-1741788000-1741802400@pagc.sk.ca
SUMMARY:PSIT Community Engagement with LLRIB-Stanley Mission
DESCRIPTION:For more information\, please contact Public Safety Implementation Team (PSIT) at 306-953-7333 or email at policing@pagc.net
URL:https://pagc.sk.ca/event/psit-community-engagement-with-llrib-stanley-mission-2/
CATEGORIES:Policing
END:VEVENT
BEGIN:VEVENT
DTSTART;TZID=America/Regina:20250311T140000
DTEND;TZID=America/Regina:20250311T180000
DTSTAMP:20260423T163131
CREATED:20250206T220827Z
LAST-MODIFIED:20250206T223843Z
UID:3835-1741701600-1741716000@pagc.sk.ca
SUMMARY:PSIT Community Engagement with LLRIB-Lac La Ronge
DESCRIPTION:For more information\, please contact Public Safety Implementation Team (PSIT) at 306-953-7333 or email at policing@pagc.net
URL:https://pagc.sk.ca/event/psit-community-engagement-with-llrib-lac-la-ronge-2/
CATEGORIES:Policing
END:VEVENT
BEGIN:VEVENT
DTSTART;TZID=America/Regina:20250311T090000
DTEND;TZID=America/Regina:20250311T160000
DTSTAMP:20260423T163131
CREATED:20250214T192943Z
LAST-MODIFIED:20250227T165141Z
UID:3864-1741683600-1741708800@pagc.sk.ca
SUMMARY:PAGC Family Wellness Day
DESCRIPTION:Click Here to Register Online\nIntended audience is individuals currently going through Domestic violence in their relationship.\nNo mileage or per diems are being provided.  It will be livestreamed.\nOpening Remarks – Shirley Woods\, Director of PAGC Health \nMC – Anita Parenteau\, Chair PAGC Women’s Commission \nAGENDA \n\n\n\nTime\nActivity\n\n\n9:00 am\nCrystal Dreaver – Domestic Abuse Awareness\n\n\n10:00 am – 11:00 am\nElysha Bear Morin – Presentation interactive activity. ‘Wahkotowin’ Flower activity of Coming to Know\n\n\n11:00 a.m.\nDomestic Violence Report summary\, Sherry Bates\, Dir. Of PA Women’s Shelter\n\n12:00 pm – 1:00 pm\nLunch : Blessing the food\, Soup and Bannock\n\n\n1:00 pm – 4:00 pm\nMen of the North – Presentation on domestic violence issues and what positive impacts the organization continues to make in the northern communities. A photo booth will be provided in the p.m
URL:https://pagc.sk.ca/event/pagc-family-wellness-day/
LOCATION:Plaza 88\, 888 Central Ave\, Prince Albert\, SK\, Canada
CATEGORIES:General
END:VEVENT
BEGIN:VEVENT
DTSTART;TZID=America/Regina:20250305T160000
DTEND;TZID=America/Regina:20250305T190000
DTSTAMP:20260423T163131
CREATED:20250206T220536Z
LAST-MODIFIED:20250206T220536Z
UID:3831-1741190400-1741201200@pagc.sk.ca
SUMMARY:PSIT Community Engagement with PBCN-Sandy Bay
DESCRIPTION:For more information\, please contact Public Safety Implementation Team (PSIT) at 306-953-7333 or email at policing@pagc.net
URL:https://pagc.sk.ca/event/psit-community-engagement-with-pbcn-sandy-bay-2/
CATEGORIES:Policing
END:VEVENT
BEGIN:VEVENT
DTSTART;TZID=America/Regina:20250204T160000
DTEND;TZID=America/Regina:20250204T190000
DTSTAMP:20260423T163131
CREATED:20241211T192717Z
LAST-MODIFIED:20250107T220637Z
UID:3665-1738684800-1738695600@pagc.sk.ca
SUMMARY:PSIT 2nd Community Engagement with Wahpeton Dakota Nation
DESCRIPTION:For more information\, please contact Public Safety Implementation Team (PSIT) at 306-953-7333 or email at policing@pagc.net
URL:https://pagc.sk.ca/event/psit-2nd-community-engagement-with-wahpeton-dakota-nation/
CATEGORIES:Policing
END:VEVENT
BEGIN:VEVENT
DTSTART;TZID=America/Regina:20250116T140000
DTEND;TZID=America/Regina:20250116T180000
DTSTAMP:20260423T163131
CREATED:20241211T224034Z
LAST-MODIFIED:20241211T224034Z
UID:3668-1737036000-1737050400@pagc.sk.ca
SUMMARY:PSIT 2nd Community Engagement with Sturgeon Lake First Nation
DESCRIPTION:For more information\, please contact Public Safety Implementation Team (PSIT) at 306-953-7333 or email at policing@pagc.net
URL:https://pagc.sk.ca/event/psit-2nd-community-engagement-with-sturgeon-lake-first-nation/
CATEGORIES:Policing
END:VEVENT
BEGIN:VEVENT
DTSTART;TZID=America/Regina:20241218T173000
DTEND;TZID=America/Regina:20241218T213000
DTSTAMP:20260423T163131
CREATED:20241206T214435Z
LAST-MODIFIED:20241206T215200Z
UID:3647-1734543000-1734557400@pagc.sk.ca
SUMMARY:Hunger Games Food Bank Fundraiser
DESCRIPTION:Hunger Games 2024 Hamper List \nHunger Games 2024 Letter \nCops vrs Cadets was originally started in early 1998 when the First Nations Cadets on the Carry The Kettle challenged the local RCMP to a Volleyball game. The intention was to have a fun evening of volleyball and for the kids to relate to the local officers on a personal level. (I was with the RCMP and instructed the cadet program also) \nI have been teaching cadets here for the past 6 years and we had resurrected this event last year with the RCMP\, PA Police PA Firefighters\, Parkland Ambulance\, Conservation Officers\, Air and Army Cadets\, First Nations Cadets from Red Earth\, PA\, and Sturgeon all competing. \nBasically\, we will have a night where all participants will compete in relay events (VolleyballEnd to Ends\, Basketball Shots\, Volleyball Drills\, Planking Competitions\, Push Ups\, Sit Ups and other fun events) This will not be serious competition but more designed to have fun and laugh. Points are awarded for winning or placing in events and at the end of the evening the team with the most points wins the large Hunger Games Trophy. Last year it was won by Parkland Ambulance\, and they will be returning to defend their title. \nThe Christmas Spirit Trophy is awarded to the team the raises the most funds or food items for the PA Food Bank. Last year in total\, we had raised over $8\,000 in cash and food items which is important\, especially at this time of year. Last year\, the Sturgeon Lake First Nations Cadet Corps won this honor. \nWe are pleased to announce that PAGC Grand Chief Brian Hardlotte will be involved and will be bringing in a team this year. \nThe following Organizations have been invited to attend this year: \n\nRCMP (Confirmed) – Team Lead- Wanda McKenzie\nPrince Albert Police Service- (Confirmed) – Team Lead – Nolan Carter\nPrince Albert Grand Council – (Confirmed) – Team Lead Deanna Nelson\nSturgeon Lake First Nations Cadet Corps (Confirmed) – Team Lead\, Leanne Demerais\nPA First Nations Cadet Corps (Confirmed) – Team Lead – Dawn Laprise\nParkland Ambulance (Confirmed) – Team Lead -TBD\nPA Firefighters (Sask Firefighters Association) – Team Lead\nSaskatchewan Conservation Officers – Team Lead\nProvincial Corrections – Team Lead\nFederal Corrections – Team Lead\nAir Cadets ( Confirmed) – Team Lead – Clayton Letendre\n\nHarolds IGA will once again partner with us and will create food hampers that participants or family and friends of participants can purchase for donation to the food bank on behalf of your team and that dollar amount will be added to your score for the Christmas Spirit award. Cash and food items can also be donated at the time of the event. (Hamper list will follow in future e-mails.) \nWe will also have a kickoff announcement through local media similar to this below with participants facing off in full uniform in front of trophy. (Date and Time to be announced once all participants are confirmed) \nWe would like participants to show their colors by wearing clothing or attire that reflects their organization and are also requesting audience to wear their uniforms etc. \nAll that is required for each organization is a team of 6 people. This is for fun\, and it will not be highly competitive. \nRick Sanderson
URL:https://pagc.sk.ca/event/hunger-games-food-bank-fundraiser/
LOCATION:PAGC Urban Services\, 1211 1st Ave West\, Prince Albert\, SK
CATEGORIES:General
ATTACH;FMTTYPE=image/png:https://pagc.sk.ca/wp-content/uploads/p1.png
END:VEVENT
END:VCALENDAR