BEGIN:VCALENDAR
VERSION:2.0
PRODID:-//Prince Albert Grand Council - ECPv6.15.20//NONSGML v1.0//EN
CALSCALE:GREGORIAN
METHOD:PUBLISH
X-ORIGINAL-URL:https://pagc.sk.ca
X-WR-CALDESC:Events for Prince Albert Grand Council
REFRESH-INTERVAL;VALUE=DURATION:PT1H
X-Robots-Tag:noindex
X-PUBLISHED-TTL:PT1H
BEGIN:VTIMEZONE
TZID:America/Regina
BEGIN:STANDARD
TZOFFSETFROM:-0600
TZOFFSETTO:-0600
TZNAME:CST
DTSTART:20250101T000000
END:STANDARD
END:VTIMEZONE
BEGIN:VEVENT
DTSTART;TZID=America/Regina:20260326T080000
DTEND;TZID=America/Regina:20260326T170000
DTSTAMP:20260423T182504
CREATED:20260310T210440Z
LAST-MODIFIED:20260310T211230Z
UID:6194-1774512000-1774544400@pagc.sk.ca
SUMMARY:PAGC Policing Model Symposium
DESCRIPTION:Join the Discussion\nPrince Albert Grand Council invites Chiefs\, leadership\,\nand community members to attend a symposium to review and\ndiscuss the findings of the MNP Policing Model Study.\nThis gathering will include a presentation and time for questions\,\ndiscussion\, and community feedback on the proposed\nPAGC Police Service model. \nPAGC Policing Model Symposium Poster
URL:https://pagc.sk.ca/event/pagc-policing-model-symposium/
LOCATION:Ches Leach Lounge Art Hauser Center\, 690 32 St E\, Prince Albert\, SK S6V 2W8\, Prince Albert\, Saskatchewan\, Canada
CATEGORIES:General,Policing
ATTACH;FMTTYPE=application/pdf:https://pagc.sk.ca/wp-content/uploads/1832-march-event-poster_v2-1.pdf
END:VEVENT
BEGIN:VEVENT
DTSTART;TZID=America/Regina:20260330T090000
DTEND;TZID=America/Regina:20260331T160000
DTSTAMP:20260423T182505
CREATED:20260318T215121Z
LAST-MODIFIED:20260402T211416Z
UID:6256-1774861200-1774972800@pagc.sk.ca
SUMMARY:PAGC Housing Forum & Trade Show
DESCRIPTION:We will accept registrations up to and during the event\n Registration Form \nPAGC Housing Forum and Tradeshow Agenda\nPresentations and Evaluation sheet
URL:https://pagc.sk.ca/event/pagc-housing-forum-trade-show/
LOCATION:Saskatoon Inn
CATEGORIES:General
ATTACH;FMTTYPE=image/png:https://pagc.sk.ca/wp-content/uploads/PAGC-2026-Housing-Forum-Poster_final-conv-0.png
ORGANIZER;CN="PAGC - Housing & Technical Services":MAILTO:vgenereaux@pagc.net rosiecharles@pagc.net
END:VEVENT
BEGIN:VEVENT
DTSTART;TZID=America/Regina:20260418T180000
DTEND;TZID=America/Regina:20260418T230000
DTSTAMP:20260423T182505
CREATED:20260310T215333Z
LAST-MODIFIED:20260416T175216Z
UID:6215-1776535200-1776553200@pagc.sk.ca
SUMMARY:1st Annual Little Warriors Mini Round Dance
DESCRIPTION:1st Annual Little Warriors Mini Round Dance \nRound Dance Poster
URL:https://pagc.sk.ca/event/1st-annual-little-warriors-mini-round-dance/
LOCATION:PAGC Cultural Center\, 1511 9th Ave West
CATEGORIES:General
ATTACH;FMTTYPE=image/jpeg:https://pagc.sk.ca/wp-content/uploads/3334.jpg
END:VEVENT
BEGIN:VEVENT
DTSTART;TZID=America/Regina:20260512T180000
DTEND;TZID=America/Regina:20260512T200000
DTSTAMP:20260423T182505
CREATED:20260423T220219Z
LAST-MODIFIED:20260423T220419Z
UID:6525-1778608800-1778616000@pagc.sk.ca
SUMMARY:Indigenous Family Violence  2nd Intake
DESCRIPTION:  \n 
URL:https://pagc.sk.ca/event/indigenous-family-violence-2nd-intake/
CATEGORIES:General
ATTACH;FMTTYPE=image/png:https://pagc.sk.ca/wp-content/uploads/ifv.png
END:VEVENT
BEGIN:VEVENT
DTSTART;TZID=America/Regina:20260514T100000
DTEND;TZID=America/Regina:20260514T130000
DTSTAMP:20260423T182505
CREATED:20260420T201025Z
LAST-MODIFIED:20260420T201025Z
UID:6478-1778752800-1778763600@pagc.sk.ca
SUMMARY:Moose Hide Campaign
DESCRIPTION:MOOSE HIDE CAMPAIGN \nOn behalf of PAGC Health and Social\nDevelopment and PAGC Urban Services\, you’re\ninvited to join the “Moose Hide Campaign” walk\nto end violence against women and children. Let’s\nunite to inspire future generations for better\,\nhealthier lives and make this event significant\ntogether as ONE. \nBurgers/Hotdogs including Beverages will be provided\nat PAGC Urban Services after walk
URL:https://pagc.sk.ca/event/moose-hide-campaign/
LOCATION:PAGC Monument on River Street
CATEGORIES:General,Policing
ATTACH;FMTTYPE=image/png:https://pagc.sk.ca/wp-content/uploads/Moose-3.png
END:VEVENT
BEGIN:VEVENT
DTSTART;TZID=America/Regina:20260527T130000
DTEND;TZID=America/Regina:20260528T193000
DTSTAMP:20260423T182505
CREATED:20260319T214906Z
LAST-MODIFIED:20260319T215600Z
UID:6272-1779886800-1779996600@pagc.sk.ca
SUMMARY:Bear Grease The Musical
DESCRIPTION:Email Rick Sanderson at ricksanderson@pagc.net for Tickets and Questions\nE- Transfer to pagcfncc@gmail.com\nAdults – $70\nStudents & Seniors – $50.00 \n Bear Grease Info Pamphlet\nTicket Request Form – Bear Grease the Musical
URL:https://pagc.sk.ca/event/bear-grease-the-musical/
LOCATION:E.A Rawlsinson Center\, 142 12 St W\, Prince Albert\, saskatchewan\, S6V 3B5\, Canada
CATEGORIES:General
ATTACH;FMTTYPE=image/png:https://pagc.sk.ca/wp-content/uploads/Bear-Grease-Poster-Legal-Paper-Size-conv-0.png
ORGANIZER;CN="Rick Sanderson":MAILTO:ricksanderson@pagc.net
END:VEVENT
END:VCALENDAR